BEGIN:VCALENDAR
VERSION:2.0
PRODID:-//Dr. Liam &#039;Captain&#039; Snowdon - ECPv6.0.12//NONSGML v1.0//EN
CALSCALE:GREGORIAN
METHOD:PUBLISH
X-WR-CALNAME:Dr. Liam &#039;Captain&#039; Snowdon
X-ORIGINAL-URL:https://captainsnowdon.ca
X-WR-CALDESC:Events for Dr. Liam &#039;Captain&#039; Snowdon
REFRESH-INTERVAL;VALUE=DURATION:PT1H
X-Robots-Tag:noindex
X-PUBLISHED-TTL:PT1H
BEGIN:VTIMEZONE
TZID:UTC
BEGIN:STANDARD
TZOFFSETFROM:+0000
TZOFFSETTO:+0000
TZNAME:UTC
DTSTART:20180101T000000
END:STANDARD
END:VTIMEZONE
BEGIN:VEVENT
DTSTART;VALUE=DATE:20181013
DTEND;VALUE=DATE:20181016
DTSTAMP:20260425T124413
CREATED:20180824T021648Z
LAST-MODIFIED:20180824T021851Z
UID:351-1539388800-1539647999@captainsnowdon.ca
SUMMARY:The Exceptional Educator: Theories and Methods for Holistic Sex Education- Portland\, OR
DESCRIPTION:“Theories and Methods for Holistic Sex Education in 2018” \nThis is a 3-day class\, October 13\, 14 & 15\, 2018 \nThis course will deeply explore sexual rights as human rights\, and what that means for the practitioner as well as the student. We will look at the components of sex education\, reasons for sex education\, how sex education can or should look different for various audiences\, and how a holistic view can be used to create a sex education program\, exercise\, class or activity. Whether you work with children or adults\, the disabled\, within the LGBT world\, or with a specific ethnic population\, you will find useful material for your work\, and ideas you will be thinking about for a long time. \nThis program meets the requirements of the American Association of Sexuality Educators\, Counselors and Therapists (AASECT) and is approved for 18 CE credits. These CE credits may be applied toward AASECT certification and renewal of certification. \nSex ed training area: Theory and methods of sex education \nLocation: Temple Medicine Healing\, 1716 NE 42nd Ave\, Portland\, OR Time: 8:30 AM to 5:00 PM with a lunch break from 12:00-1:30 PM each day. \nRegistration: $450 \nCourse Objectives\n\n\nBy the conclusion of this workshop\, participants will be able to describe at least 3 goals of sex education.\n\n\n\n\nBy the conclusion of this workshop\, participants will be able to identify the utility of a cultural competency model in sex education and discuss intersectionality\n\n\n\n\nBy the conclusion of this workshop\, participants will be able to discuss sex education as a human right.\n\n\n\n\nBy the conclusion of this workshop\, participants will be able to recognize 6 key concepts of sex education.\n\n\n\n\nBy the conclusion of this workshop\, participants will be able to . Identify at least 3 characteristics of sexually healthy adults from the SIECUS literature.\n\n\n\n\nBy the conclusion of this workshop\, participants will be able to identify how individualized visualization can assist the educator in real time.\n\n\n\n\nBy the conclusion of this workshop\, participants will be able to create an exercise based on a principle of holistic sex education.\n\n\n\n\nBy the conclusion of this workshop\, participants will be able to use multi-dimensional methods to reach audiences on a deeper level for lasting change.
URL:https://captainsnowdon.ca/event/theories-and-methods-for-holistic-sex-education-portland-or/
LOCATION:OR
END:VEVENT
BEGIN:VEVENT
DTSTART;VALUE=DATE:20180917
DTEND;VALUE=DATE:20180921
DTSTAMP:20260425T124413
CREATED:20180824T045944Z
LAST-MODIFIED:20180824T045944Z
UID:372-1537142400-1537487999@captainsnowdon.ca
SUMMARY:Sexualized Violence Awareness Week @ UVIC
DESCRIPTION:
URL:https://captainsnowdon.ca/event/sexualized-violence-awareness-week-uvic/
LOCATION:OR
END:VEVENT
END:VCALENDAR