BEGIN:VCALENDAR
VERSION:2.0
PRODID:-//Dr. Liam &#039;Captain&#039; Snowdon - ECPv6.0.12//NONSGML v1.0//EN
CALSCALE:GREGORIAN
METHOD:PUBLISH
X-WR-CALNAME:Dr. Liam &#039;Captain&#039; Snowdon
X-ORIGINAL-URL:https://captainsnowdon.ca
X-WR-CALDESC:Events for Dr. Liam &#039;Captain&#039; Snowdon
REFRESH-INTERVAL;VALUE=DURATION:PT1H
X-Robots-Tag:noindex
X-PUBLISHED-TTL:PT1H
BEGIN:VTIMEZONE
TZID:UTC
BEGIN:STANDARD
TZOFFSETFROM:+0000
TZOFFSETTO:+0000
TZNAME:UTC
DTSTART:20200101T000000
END:STANDARD
END:VTIMEZONE
BEGIN:VEVENT
DTSTART;VALUE=DATE:20201016
DTEND;VALUE=DATE:20201023
DTSTAMP:20260425T154816
CREATED:20201008T144633Z
LAST-MODIFIED:20201008T144633Z
UID:598-1602806400-1603411199@captainsnowdon.ca
SUMMARY:Somatic Sex Educator Training Core Course Four
DESCRIPTION:This course includes: \nIn-person option: 7 days in Victoria\, British Columbia\, Canada. $1710 USD. First day: 11am to 6pm\, subsequent days 10 am to 6 pm (with an afternoon of repose mid-week) \nOnline option: 7 days study and practice online\, working with an approved practice partner on 4 afternoons (Day 2 and 3; Day 5 and 6) $1510 USD. 9am to 5pm (with an afternoon of repose mid-week) \n\n\n\n\n\nAt this week-long intensive you will step into the role of facilitator and practitioner while continuing to hold space for your own erotic unfolding. In this course we will continue to layer your personal learnings from Core Course Three with more demonstrations and hands-on practice. You will learn more about scar tissue and genital de-armouring\, sensual massage\, internal and external anal mapping and massage\, erotic massage dancing and Ecstatic Erotic Massage. You will deepen your understanding and skills in working with trauma\, develop session arcs and plans for clients presenting with common sexual concerns\, and have opportunities to practice facilitating somatic sex education in groups. We support each other in finding and articulating what somatic sex education means to each one of us\, and building marketing materials for our unique practices.
URL:https://captainsnowdon.ca/event/somatic-sex-educator-training-core-course-four/
CATEGORIES:Events
ORGANIZER;CN="Somatic%20Sex%20Educator":MAILTO:info@somaticsexeducator.com
END:VEVENT
BEGIN:VEVENT
DTSTART;VALUE=DATE:20201017
DTEND;VALUE=DATE:20201024
DTSTAMP:20260425T154816
CREATED:20201008T144125Z
LAST-MODIFIED:20201008T144125Z
UID:587-1602892800-1603497599@captainsnowdon.ca
SUMMARY:Somatic Sex Educator Training Core Course Two
DESCRIPTION:
URL:https://captainsnowdon.ca/event/somatic-sex-educator-training-core-course-two/
CATEGORIES:Events
ORGANIZER;CN="Somatic%20Sex%20Educator":MAILTO:info@somaticsexeducator.com
END:VEVENT
BEGIN:VEVENT
DTSTART;VALUE=DATE:20201031
DTEND;VALUE=DATE:20201102
DTSTAMP:20260425T154816
CREATED:20201008T143930Z
LAST-MODIFIED:20201008T161220Z
UID:583-1604102400-1604275199@captainsnowdon.ca
SUMMARY:Join The Conversation About Doing Death Better
DESCRIPTION:A two-day online community conference that brings together people and services to share resources\, learn\, and connect about death and dying. \nDeathly Matters showcases emerging voices and perspectives not readily found within the mainstream dialogue. We welcome you to this opportunity to learn from others\, ask questions\, and share experiences in a comfortable and welcoming atmosphere with a community of people who are also committed to doing death better. \nIn response to the recent pandemic\nand in an effort to host the event in a safe\, comfortable\, and more accessible environment\, we have decided to offer the 2020 event online.\nWhile we won’t gather in person\, we will still gather in community\nin a warm and welcome environment\, with authentic and heart felt voices\nand offerings of rich content and learnings.
URL:https://captainsnowdon.ca/event/join-the-conversation-about-doing-death-better/
CATEGORIES:Events
END:VEVENT
BEGIN:VEVENT
DTSTART;VALUE=DATE:20210213
DTEND;VALUE=DATE:20210425
DTSTAMP:20260425T154816
CREATED:20200929T212543Z
LAST-MODIFIED:20201008T145503Z
UID:580-1613174400-1619308799@captainsnowdon.ca
SUMMARY:Together We Fly! Facilitation Skills for Somatic Sex Educators
DESCRIPTION:In this three month training you will learn and practice skills and tools for leading and co-leading workshops\, rituals\, retreats\, ongoing groups\, professional development seminars and ceremonies\, both online and in-person. You will leave with more confidence in bringing somatic sex education to groups of people in joyful\, engaging and life changing ways.  You will gain skills for regulating your nervous system while facilitating\, get one-on-one facilitation coaching on your personal goals/intentions\, deepen your anti-oppression and liberation facilitation lens\, and more. The training consists of six\, four-hour-long online workshops two Saturdays per month\, February 13 – April 24th 2021\, and six rich modules of generative curriculum.
URL:https://captainsnowdon.ca/event/together-we-fly-facilitation-skills-for-somatic-sex-educators-2/
CATEGORIES:Events
END:VEVENT
BEGIN:VEVENT
DTSTART;VALUE=DATE:20210308
DTEND;VALUE=DATE:20210322
DTSTAMP:20260425T154816
CREATED:20210309T151651Z
LAST-MODIFIED:20210309T151657Z
UID:635-1615161600-1616371199@captainsnowdon.ca
SUMMARY:TRANSPOETIC IMAGININGS
DESCRIPTION:Writers: Liam “Captain” Snowdon and Julian Gunn\nHost: Medwyn McConachy\nLength: 22 mins \nLiam “Captain” Snowdon is a Somatic Sex Educator\, Anti-Violence Worker\, and poet. Captain is a former Assistant Professor at the Institute for the Advanced Study of Human Sexuality in San Francisco and current faculty with The Institute for Sexual Education and Enlightenment. \n“I write in order to exist”. Julian Gunn is an English Instructor at Camosun College in Victoria\, British Columbia. His personal essays on transgender issues have been published in the anthologies Nobody’s Father and In the Flesh\, and his essays on Doctor Who and Star Trek are included in Outside In 2 and Outside in: TOS. \nMedwyn McConachy: I am a process artist/researcher/writer interested in problem solving for powerful connectivity. My creative practice arises from my relationship with the natural world and to the seen and unseen worlds among which I am privileged to dwell.
URL:https://captainsnowdon.ca/event/transpoetic-imaginings/
CATEGORIES:Events
ATTACH;FMTTYPE=image/jpeg:https://captainsnowdon.ca/wp-content/uploads/2021/03/stacks-image-50e431e.jpg
END:VEVENT
BEGIN:VEVENT
DTSTART;VALUE=DATE:20210419
DTEND;VALUE=DATE:20210426
DTSTAMP:20260425T154816
CREATED:20201008T144300Z
LAST-MODIFIED:20201008T144316Z
UID:589-1618790400-1619395199@captainsnowdon.ca
SUMMARY:Somatic Sex Educator Training Core Course Two
DESCRIPTION:In-person option: 7 days in Victoria\, British Columbia\, Canada. $1710 USD\nFirst day: 11am to 6pm\, subsequent days 10 am to 6 pm (with an afternoon of repose mid-week)\nOnline option: 7 days study and practice online $1510 USD\n9 am to 5 pm (with an afternoon of repose mid-week) \n\n\n\n\n\nThis is the first of two intensives in a professional training for somatic sex educators. Whether you are attending online or in-person\, you will be working with a cohort of students\, two main faculty\, plus guest teachers. Prepare for an intensive learning experience. \n\n\n\n\n\nOur own erotic well-being is foundational for developing a professional practice as a somatic sex educator. During this week together we have a chance to unfold and share the personal and cultural journey to sexual wholeness. The intensive takes us through an arc of exercises and experiences in a way that mirrors the journey of a client working with a somatic sex educator\, while resourcing us for professional practice. \n\n\n\n\n\nWe will begin with creating a “safe enough” container. This involves setting community agreements and honing and sharing our intentions. Study and embodied exercises help with understanding barriers to pleasure. We will learn and use actual practices\, tools and competencies for empowering our own and others’ choice and voice. \n\n\n\n\n\nStudents will expand their embodied understanding of social locationality and sexual rights and freedoms. They will learn about how we somatize oppression and privilege\, and practice technologies for unwinding some of these bonds. \n\n\n\n\n\nWe will work to create intentional\, professional\, erotic learning space. We practice using procedures that demonstrate professionalism\, including intake and assessment. We discuss and offer diverse frameworks for ethical somatic sex education. \n\n\n\n\n\nWe cultivate capacity to feel and communicate body sensations as we increase our somatic literacy\, developing a repertoire of embodiment practices we can use and share with clients. \n\n\n\n\n\nThe course includes a deeper dive into the science of somatic sex education and interpersonal neurobiology. The science of sexual happiness helps give language to the learning process\, so we understand challenges and opportunities for expanded wellness. Knowing and sharing the science can help take shame away as we work with clients\, and support each person in working and playing in their personal learning zone. \n\n\n\n\n\nThe intensive includes teaching in the somatic sex education core tool of Masturbation Coaching. We have an opportunity to explore the possibility of communal Mindful Erotic Practice\, always within our personal learning zones. \n\n\n\n\n\nWe will have a chance to further explore genital anatomy and practice Genital Mapping. We will introduce the core tools of Affirmative Ritual Touch and Erotic Massage\, while demonstrating how these tools can be integrated into somatic sex education sessions\, whether offered in-person or online. All activities are done through the lens of empowering choice and voice. \n\n\n\n\n\nThis 7-day intensive will focus on building core competencies of somatic sex education.
URL:https://captainsnowdon.ca/event/somatic-sex-educator-training-inperson-intensive-core-course-two-2/
CATEGORIES:Events
ORGANIZER;CN="Somatic%20Sex%20Educator":MAILTO:info@somaticsexeducator.com
END:VEVENT
BEGIN:VEVENT
DTSTART;VALUE=DATE:20210517
DTEND;VALUE=DATE:20210524
DTSTAMP:20260425T154816
CREATED:20201008T144722Z
LAST-MODIFIED:20201008T144722Z
UID:600-1621209600-1621814399@captainsnowdon.ca
SUMMARY:Somatic Sex Educator Training Core Course Four
DESCRIPTION:This course includes: \nIn-person option: 7 days in Victoria\, British Columbia\, Canada. $1710 USD. First day: 11am to 6pm\, subsequent days 10 am to 6 pm (with an afternoon of repose mid-week) \nOnline option: 7 days study and practice online\, working with an approved practice partner on 4 afternoons (Day 2 and 3; Day 5 and 6) $1510 USD. 9am to 5pm (with an afternoon of repose mid-week) \n\n\n\n\n\nAt this week-long intensive you will step into the role of facilitator and practitioner while continuing to hold space for your own erotic unfolding. In this course we will continue to layer your personal learnings from Core Course Three with more demonstrations and hands-on practice. You will learn more about scar tissue and genital de-armouring\, sensual massage\, internal and external anal mapping and massage\, erotic massage dancing and Ecstatic Erotic Massage. You will deepen your understanding and skills in working with trauma\, develop session arcs and plans for clients presenting with common sexual concerns\, and have opportunities to practice facilitating somatic sex education in groups. We support each other in finding and articulating what somatic sex education means to each one of us\, and building marketing materials for our unique practices.
URL:https://captainsnowdon.ca/event/somatic-sex-educator-training-core-course-four-2/
CATEGORIES:Events
ORGANIZER;CN="Somatic%20Sex%20Educator":MAILTO:info@somaticsexeducator.com
END:VEVENT
BEGIN:VEVENT
DTSTART;VALUE=DATE:20210621
DTEND;VALUE=DATE:20210628
DTSTAMP:20260425T154816
CREATED:20201008T144355Z
LAST-MODIFIED:20201008T144355Z
UID:591-1624233600-1624838399@captainsnowdon.ca
SUMMARY:Somatic Sex Educator Training Core Course Two
DESCRIPTION:In-person option: 7 days in Victoria\, British Columbia\, Canada. $1710 USD\nFirst day: 11am to 6pm\, subsequent days 10 am to 6 pm (with an afternoon of repose mid-week)\nOnline option: 7 days study and practice online $1510 USD\n9 am to 5 pm (with an afternoon of repose mid-week) \n\n\n\n\n\nThis is the first of two intensives in a professional training for somatic sex educators. Whether you are attending online or in-person\, you will be working with a cohort of students\, two main faculty\, plus guest teachers. Prepare for an intensive learning experience. \n\n\n\n\n\nOur own erotic well-being is foundational for developing a professional practice as a somatic sex educator. During this week together we have a chance to unfold and share the personal and cultural journey to sexual wholeness. The intensive takes us through an arc of exercises and experiences in a way that mirrors the journey of a client working with a somatic sex educator\, while resourcing us for professional practice. \n\n\n\n\n\nWe will begin with creating a “safe enough” container. This involves setting community agreements and honing and sharing our intentions. Study and embodied exercises help with understanding barriers to pleasure. We will learn and use actual practices\, tools and competencies for empowering our own and others’ choice and voice. \n\n\n\n\n\nStudents will expand their embodied understanding of social locationality and sexual rights and freedoms. They will learn about how we somatize oppression and privilege\, and practice technologies for unwinding some of these bonds. \n\n\n\n\n\nWe will work to create intentional\, professional\, erotic learning space. We practice using procedures that demonstrate professionalism\, including intake and assessment. We discuss and offer diverse frameworks for ethical somatic sex education. \n\n\n\n\n\nWe cultivate capacity to feel and communicate body sensations as we increase our somatic literacy\, developing a repertoire of embodiment practices we can use and share with clients. \n\n\n\n\n\nThe course includes a deeper dive into the science of somatic sex education and interpersonal neurobiology. The science of sexual happiness helps give language to the learning process\, so we understand challenges and opportunities for expanded wellness. Knowing and sharing the science can help take shame away as we work with clients\, and support each person in working and playing in their personal learning zone. \n\n\n\n\n\nThe intensive includes teaching in the somatic sex education core tool of Masturbation Coaching. We have an opportunity to explore the possibility of communal Mindful Erotic Practice\, always within our personal learning zones. \n\n\n\n\n\nWe will have a chance to further explore genital anatomy and practice Genital Mapping. We will introduce the core tools of Affirmative Ritual Touch and Erotic Massage\, while demonstrating how these tools can be integrated into somatic sex education sessions\, whether offered in-person or online. All activities are done through the lens of empowering choice and voice. \n\n\n\n\n\nThis 7-day intensive will focus on building core competencies of somatic sex education.
URL:https://captainsnowdon.ca/event/somatic-sex-educator-training-core-course-two-2/
CATEGORIES:Events
ORGANIZER;CN="Somatic%20Sex%20Educator":MAILTO:info@somaticsexeducator.com
END:VEVENT
BEGIN:VEVENT
DTSTART;VALUE=DATE:20210913
DTEND;VALUE=DATE:20210920
DTSTAMP:20260425T154816
CREATED:20201008T144443Z
LAST-MODIFIED:20201008T144443Z
UID:594-1631491200-1632095999@captainsnowdon.ca
SUMMARY:Somatic Sex Educator Training Core Course Two
DESCRIPTION:In-person option: 7 days in Victoria\, British Columbia\, Canada. $1710 USD\nFirst day: 11am to 6pm\, subsequent days 10 am to 6 pm (with an afternoon of repose mid-week)\nOnline option: 7 days study and practice online $1510 USD\n9 am to 5 pm (with an afternoon of repose mid-week) \n\n\n\n\n\nThis is the first of two intensives in a professional training for somatic sex educators. Whether you are attending online or in-person\, you will be working with a cohort of students\, two main faculty\, plus guest teachers. Prepare for an intensive learning experience. \n\n\n\n\n\nOur own erotic well-being is foundational for developing a professional practice as a somatic sex educator. During this week together we have a chance to unfold and share the personal and cultural journey to sexual wholeness. The intensive takes us through an arc of exercises and experiences in a way that mirrors the journey of a client working with a somatic sex educator\, while resourcing us for professional practice. \n\n\n\n\n\nWe will begin with creating a “safe enough” container. This involves setting community agreements and honing and sharing our intentions. Study and embodied exercises help with understanding barriers to pleasure. We will learn and use actual practices\, tools and competencies for empowering our own and others’ choice and voice. \n\n\n\n\n\nStudents will expand their embodied understanding of social locationality and sexual rights and freedoms. They will learn about how we somatize oppression and privilege\, and practice technologies for unwinding some of these bonds. \n\n\n\n\n\nWe will work to create intentional\, professional\, erotic learning space. We practice using procedures that demonstrate professionalism\, including intake and assessment. We discuss and offer diverse frameworks for ethical somatic sex education. \n\n\n\n\n\nWe cultivate capacity to feel and communicate body sensations as we increase our somatic literacy\, developing a repertoire of embodiment practices we can use and share with clients. \n\n\n\n\n\nThe course includes a deeper dive into the science of somatic sex education and interpersonal neurobiology. The science of sexual happiness helps give language to the learning process\, so we understand challenges and opportunities for expanded wellness. Knowing and sharing the science can help take shame away as we work with clients\, and support each person in working and playing in their personal learning zone. \n\n\n\n\n\nThe intensive includes teaching in the somatic sex education core tool of Masturbation Coaching. We have an opportunity to explore the possibility of communal Mindful Erotic Practice\, always within our personal learning zones. \n\n\n\n\n\nWe will have a chance to further explore genital anatomy and practice Genital Mapping. We will introduce the core tools of Affirmative Ritual Touch and Erotic Massage\, while demonstrating how these tools can be integrated into somatic sex education sessions\, whether offered in-person or online. All activities are done through the lens of empowering choice and voice. \n\n\n\n\n\nThis 7-day intensive will focus on building core competencies of somatic sex education.
URL:https://captainsnowdon.ca/event/somatic-sex-educator-training-core-course-two-3/
CATEGORIES:Events
ORGANIZER;CN="Somatic%20Sex%20Educator":MAILTO:info@somaticsexeducator.com
END:VEVENT
BEGIN:VEVENT
DTSTART;VALUE=DATE:20211115
DTEND;VALUE=DATE:20211122
DTSTAMP:20260425T154816
CREATED:20201008T144526Z
LAST-MODIFIED:20201008T144526Z
UID:596-1636934400-1637539199@captainsnowdon.ca
SUMMARY:Somatic Sex Educator Training Core Course Two
DESCRIPTION:In-person option: 7 days in Victoria\, British Columbia\, Canada. $1710 USD\nFirst day: 11am to 6pm\, subsequent days 10 am to 6 pm (with an afternoon of repose mid-week)\nOnline option: 7 days study and practice online $1510 USD\n9 am to 5 pm (with an afternoon of repose mid-week) \n\n\n\n\n\nThis is the first of two intensives in a professional training for somatic sex educators. Whether you are attending online or in-person\, you will be working with a cohort of students\, two main faculty\, plus guest teachers. Prepare for an intensive learning experience. \n\n\n\n\n\nOur own erotic well-being is foundational for developing a professional practice as a somatic sex educator. During this week together we have a chance to unfold and share the personal and cultural journey to sexual wholeness. The intensive takes us through an arc of exercises and experiences in a way that mirrors the journey of a client working with a somatic sex educator\, while resourcing us for professional practice. \n\n\n\n\n\nWe will begin with creating a “safe enough” container. This involves setting community agreements and honing and sharing our intentions. Study and embodied exercises help with understanding barriers to pleasure. We will learn and use actual practices\, tools and competencies for empowering our own and others’ choice and voice. \n\n\n\n\n\nStudents will expand their embodied understanding of social locationality and sexual rights and freedoms. They will learn about how we somatize oppression and privilege\, and practice technologies for unwinding some of these bonds. \n\n\n\n\n\nWe will work to create intentional\, professional\, erotic learning space. We practice using procedures that demonstrate professionalism\, including intake and assessment. We discuss and offer diverse frameworks for ethical somatic sex education. \n\n\n\n\n\nWe cultivate capacity to feel and communicate body sensations as we increase our somatic literacy\, developing a repertoire of embodiment practices we can use and share with clients. \n\n\n\n\n\nThe course includes a deeper dive into the science of somatic sex education and interpersonal neurobiology. The science of sexual happiness helps give language to the learning process\, so we understand challenges and opportunities for expanded wellness. Knowing and sharing the science can help take shame away as we work with clients\, and support each person in working and playing in their personal learning zone. \n\n\n\n\n\nThe intensive includes teaching in the somatic sex education core tool of Masturbation Coaching. We have an opportunity to explore the possibility of communal Mindful Erotic Practice\, always within our personal learning zones. \n\n\n\n\n\nWe will have a chance to further explore genital anatomy and practice Genital Mapping. We will introduce the core tools of Affirmative Ritual Touch and Erotic Massage\, while demonstrating how these tools can be integrated into somatic sex education sessions\, whether offered in-person or online. All activities are done through the lens of empowering choice and voice. \n\n\n\n\n\nThis 7-day intensive will focus on building core competencies of somatic sex education.
URL:https://captainsnowdon.ca/event/somatic-sex-educator-training-core-course-two-4/
CATEGORIES:Events
ORGANIZER;CN="Somatic%20Sex%20Educator":MAILTO:info@somaticsexeducator.com
END:VEVENT
BEGIN:VEVENT
DTSTART;VALUE=DATE:20211116
DTEND;VALUE=DATE:20211123
DTSTAMP:20260425T154816
CREATED:20201008T144802Z
LAST-MODIFIED:20201008T161101Z
UID:601-1637020800-1637625599@captainsnowdon.ca
SUMMARY:Somatic Sex Educator Training Core Course Four
DESCRIPTION:This course includes: \nIn-person option: 7 days in Victoria\, British Columbia\, Canada. $1710 USD. First day: 11am to 6pm\, subsequent days 10 am to 6 pm (with an afternoon of repose mid-week) \nOnline option: 7 days study and practice online\, working with an approved practice partner on 4 afternoons (Day 2 and 3; Day 5 and 6) $1510 USD. 9am to 5pm (with an afternoon of repose mid-week) \n\n\n\n\n\nAt this week-long intensive you will step into the role of facilitator and practitioner while continuing to hold space for your own erotic unfolding. In this course we will continue to layer your personal learnings from Core Course Three with more demonstrations and hands-on practice. You will learn more about scar tissue and genital de-armouring\, sensual massage\, internal and external anal mapping and massage\, erotic massage dancing and Ecstatic Erotic Massage. You will deepen your understanding and skills in working with trauma\, develop session arcs and plans for clients presenting with common sexual concerns\, and have opportunities to practice facilitating somatic sex education in groups. We support each other in finding and articulating what somatic sex education means to each one of us\, and building marketing materials for our unique practices.
URL:https://captainsnowdon.ca/event/somatic-sex-educator-training-core-course-four-3/
CATEGORIES:Events
ORGANIZER;CN="Somatic%20Sex%20Educator":MAILTO:info@somaticsexeducator.com
END:VEVENT
END:VCALENDAR